BEGIN:VCALENDAR
VERSION:2.0
PRODID:-//ipop - ECPv6.15.20//NONSGML v1.0//EN
CALSCALE:GREGORIAN
METHOD:PUBLISH
X-WR-CALNAME:ipop
X-ORIGINAL-URL:https://www.ipop.at
X-WR-CALDESC:Veranstaltungen für ipop
REFRESH-INTERVAL;VALUE=DURATION:PT1H
X-Robots-Tag:noindex
X-PUBLISHED-TTL:PT1H
BEGIN:VTIMEZONE
TZID:Europe/Vienna
BEGIN:DAYLIGHT
TZOFFSETFROM:+0100
TZOFFSETTO:+0200
TZNAME:CEST
DTSTART:20190331T010000
END:DAYLIGHT
BEGIN:STANDARD
TZOFFSETFROM:+0200
TZOFFSETTO:+0100
TZNAME:CET
DTSTART:20191027T010000
END:STANDARD
BEGIN:DAYLIGHT
TZOFFSETFROM:+0100
TZOFFSETTO:+0200
TZNAME:CEST
DTSTART:20200329T010000
END:DAYLIGHT
BEGIN:STANDARD
TZOFFSETFROM:+0200
TZOFFSETTO:+0100
TZNAME:CET
DTSTART:20201025T010000
END:STANDARD
BEGIN:DAYLIGHT
TZOFFSETFROM:+0100
TZOFFSETTO:+0200
TZNAME:CEST
DTSTART:20210328T010000
END:DAYLIGHT
BEGIN:STANDARD
TZOFFSETFROM:+0200
TZOFFSETTO:+0100
TZNAME:CET
DTSTART:20211031T010000
END:STANDARD
END:VTIMEZONE
BEGIN:VEVENT
DTSTART;TZID=Europe/Vienna:20200227T110000
DTEND;TZID=Europe/Vienna:20200227T130000
DTSTAMP:20260422T211702
CREATED:20200120T080428Z
LAST-MODIFIED:20200129T164657Z
UID:208744-1582801200-1582808400@www.ipop.at
SUMMARY:MASTERCLASS mit PETER ERSKINE
DESCRIPTION:Wo: MUK.studio\nJohannesgasse 4a\n1010 Wien \nTeilnahme nur für Schlagzeug-Studierende der mdw und der MUK. Teilnahme für Gäste auf Anfrage. \nInformationen zu Drummer und Composer Peter Erskine:\nhttps://petererskine.com/
URL:https://www.ipop.at/veranstaltung/masterclass-mit-peter-erskine/
LOCATION:Musik und Kunst Privatuniversität der Stadt Wien\, Johannesgasse 4A\, 1010\, Wien\, 1010\, Österreich
END:VEVENT
END:VCALENDAR