BEGIN:VCALENDAR
VERSION:2.0
PRODID:-//ipop - ECPv6.15.20//NONSGML v1.0//EN
CALSCALE:GREGORIAN
METHOD:PUBLISH
X-ORIGINAL-URL:https://www.ipop.at
X-WR-CALDESC:Veranstaltungen für ipop
REFRESH-INTERVAL;VALUE=DURATION:PT1H
X-Robots-Tag:noindex
X-PUBLISHED-TTL:PT1H
BEGIN:VTIMEZONE
TZID:Europe/Vienna
BEGIN:DAYLIGHT
TZOFFSETFROM:+0100
TZOFFSETTO:+0200
TZNAME:CEST
DTSTART:20220327T010000
END:DAYLIGHT
BEGIN:STANDARD
TZOFFSETFROM:+0200
TZOFFSETTO:+0100
TZNAME:CET
DTSTART:20221030T010000
END:STANDARD
BEGIN:DAYLIGHT
TZOFFSETFROM:+0100
TZOFFSETTO:+0200
TZNAME:CEST
DTSTART:20230326T010000
END:DAYLIGHT
BEGIN:STANDARD
TZOFFSETFROM:+0200
TZOFFSETTO:+0100
TZNAME:CET
DTSTART:20231029T010000
END:STANDARD
BEGIN:DAYLIGHT
TZOFFSETFROM:+0100
TZOFFSETTO:+0200
TZNAME:CEST
DTSTART:20240331T010000
END:DAYLIGHT
BEGIN:STANDARD
TZOFFSETFROM:+0200
TZOFFSETTO:+0100
TZNAME:CET
DTSTART:20241027T010000
END:STANDARD
END:VTIMEZONE
BEGIN:VEVENT
DTSTART;TZID=Europe/Vienna:20230619T193000
DTEND;TZID=Europe/Vienna:20230619T213000
DTSTAMP:20260422T075935
CREATED:20230531T122455Z
LAST-MODIFIED:20230531T122455Z
UID:211875-1687203000-1687210200@www.ipop.at
SUMMARY:ipop vocal night
DESCRIPTION:Vocal Night\n\nStudierende des ipop performen an zwei Abenden in verschiedenen Formationen. Das stilistisch bunte Programm beinhaltet auch Eigenkompositionen der Studierenden. Wir freuen uns auf einen vielstimmigen Abend.
URL:https://www.ipop.at/veranstaltung/ipop-vocal-night-5/2023-06-19/
LOCATION:1019 Jazzclub\, Althanstraße 10\, Wien\, 1090\, Österreich
END:VEVENT
END:VCALENDAR