BEGIN:VCALENDAR
VERSION:2.0
PRODID:-//ipop - ECPv6.15.20//NONSGML v1.0//EN
CALSCALE:GREGORIAN
METHOD:PUBLISH
X-WR-CALNAME:ipop
X-ORIGINAL-URL:https://www.ipop.at
X-WR-CALDESC:Veranstaltungen für ipop
REFRESH-INTERVAL;VALUE=DURATION:PT1H
X-Robots-Tag:noindex
X-PUBLISHED-TTL:PT1H
BEGIN:VTIMEZONE
TZID:Europe/Vienna
BEGIN:DAYLIGHT
TZOFFSETFROM:+0100
TZOFFSETTO:+0200
TZNAME:CEST
DTSTART:20190331T010000
END:DAYLIGHT
BEGIN:STANDARD
TZOFFSETFROM:+0200
TZOFFSETTO:+0100
TZNAME:CET
DTSTART:20191027T010000
END:STANDARD
BEGIN:DAYLIGHT
TZOFFSETFROM:+0100
TZOFFSETTO:+0200
TZNAME:CEST
DTSTART:20200329T010000
END:DAYLIGHT
BEGIN:STANDARD
TZOFFSETFROM:+0200
TZOFFSETTO:+0100
TZNAME:CET
DTSTART:20201025T010000
END:STANDARD
BEGIN:DAYLIGHT
TZOFFSETFROM:+0100
TZOFFSETTO:+0200
TZNAME:CEST
DTSTART:20210328T010000
END:DAYLIGHT
BEGIN:STANDARD
TZOFFSETFROM:+0200
TZOFFSETTO:+0100
TZNAME:CET
DTSTART:20211031T010000
END:STANDARD
BEGIN:DAYLIGHT
TZOFFSETFROM:+0100
TZOFFSETTO:+0200
TZNAME:CEST
DTSTART:20220327T010000
END:DAYLIGHT
BEGIN:STANDARD
TZOFFSETFROM:+0200
TZOFFSETTO:+0100
TZNAME:CET
DTSTART:20221030T010000
END:STANDARD
BEGIN:DAYLIGHT
TZOFFSETFROM:+0100
TZOFFSETTO:+0200
TZNAME:CEST
DTSTART:20230326T010000
END:DAYLIGHT
BEGIN:STANDARD
TZOFFSETFROM:+0200
TZOFFSETTO:+0100
TZNAME:CET
DTSTART:20231029T010000
END:STANDARD
END:VTIMEZONE
BEGIN:VEVENT
DTSTART;TZID=Europe/Vienna:20220629T190000
DTEND;TZID=Europe/Vienna:20220629T220000
DTSTAMP:20260422T110901
CREATED:20220503T090056Z
LAST-MODIFIED:20220503T090056Z
UID:210706-1656529200-1656540000@www.ipop.at
SUMMARY:big.mdw.band Zawinul 90 - The Music of Weather Report
DESCRIPTION:Josef „Joe“ Zawinul würde am 7. Juli 2022 seinen 90. Geburtstag feiern. Der gebürtige Wiener zählt zu den einflussreichsten Jazz-Musikern des 20. Jahrhunderts. In den nächsten drei Semestern wird sich die big.mdw.band\, die Big Band der Universität für Musik und darstellende Kunst Wien\, unter dem Motto „Zawinul 90“ mit der Musik von Joe Zawinul beschäftigen.\nDen Anfang dieser Zawinul-Triologie bildet im Sommersemester 2022 das Programm „The Music of Weather Report“. Unter der Leitung von Markus Geiselhart präsentiert die big.mdw.band die Musik einer der künstlerisch bedeutendsten und kommerziell erfogreichsten Jazz- und Fusion-Bands der 1970er und 1980er Jahren.\nIm Dezember 1970 wurde „Weather Report“ von Joe Zawinul und dem Saxofonisten Wayne Shorter gegründet. Bis zur Auflösung der Band 1986 spielten bei „Weather Report“ Musikerpersönlichkeiten wie Jaco Pastorius\, Peter Erskine\, Miroslav Vitouš\, Alphonse Mouzon oder Victor Bailey.\nDie Big Band Arrangements für dieses Programm stammen aus den Federn von Joe Zawinul\, Vince Mendoza\, Mike Tomaro\, Daryl McKenzie\, der Wiener Saxofon-Legende Hans Salomon und Markus Geiselhart.\nMit dem Vocal-Ensemble „ipop-Singers“ wird auch eine Bearbeitung der Birdland-Version von Manhattan-Transfer erklingen. \nDas Konzert wird live gestreamt unter mdwMediathek. \nCovid-19 Regelung: Das Tragen einer FFP2-Maske während der Veranstaltung wird empfohlen. Mehr Informationen unter mdw.ac.at/ihresicherheit. \nZeit & Ort der Veranstaltung\n29.06. von 19:00 bis 22:00\nSchloßtheater Schönbrunn\, Bauteil A/Schlosstheater Schönbrunn\nSchönbrunner Schlossstraße 47\n1130 Wien\nzum Lageplan in MDWonline \nProgramm\nvocals: Alexandra Azer\, Luise Hanel\, Philipp Woloch\, Philipp Oberrisser\nreeds: Tomy Molnar\, Jonathan Sohm\, Stefan Eitzenberger\, Mathias Nussbaumer\, Stephan Lerchbaumer trumpets: Vadim Tosun\, Benedikt Fehringer\, Jonas Friesel\, Raphael Greil\ntrombones: Marcus Bittner\, Filip Rozic\, Kilian Marchhart\, Benedikt Etzel\nrhythm: Fabian Janiczek (p&synth)\, Paul Danho (guit)\, Marie Schweiger & Markus Windisch (b)\,\nTim Schweiger & Lukas Seeber (d)\nconductor: Markus Geiselhart
URL:https://www.ipop.at/veranstaltung/big-mdw-band-zawinul-90-the-music-of-weather-report/
LOCATION:Schlosstheater\, Schönbrunner Schlossstraße 47\, Wien\, 1130\, Österreich
END:VEVENT
BEGIN:VEVENT
DTSTART;TZID=Europe/Vienna:20220628T183000
DTEND;TZID=Europe/Vienna:20220628T233000
DTSTAMP:20260422T110901
CREATED:20220429T100425Z
LAST-MODIFIED:20220503T085627Z
UID:210691-1656441000-1656459000@www.ipop.at
SUMMARY:ipop Composers Night
DESCRIPTION:Zwei Jahre konnte auf Grund der Pandemie die „ipop Composers Night“ nicht stattGinden. Am 28. Juni 2022 nimmt das Institut für Popularmusik (ipop) in der Sargfabrik in Wien diese Tradition wieder auf. Die „ipop Composers Night“ steht im Zeichen der KomponistInnen und ArrangeurInnen des Instituts für Popularmusik. Im \n1. Set des Abends präsentiert das „Beach Party Orchestra“ unter Leitung von Harald Huber und Melissa Jank neue Songs von Studierenden die in der Lehrveranstaltung „Didaktik der Popularmusik“ entstanden sind. \nFür das 2. und 3. Set schufen Studierende in den Vorlesungen von Gerd Hermann Ortler neue Werke für große Ensembles. Aufgeführt werden diese Stücke im 2. Set durch das „ipop Composers Ensemble“\, ein vielseitiges Miniatur-Orchester\, unter Leitung von Gerd Hermann Ortler. \nIm 3. Set wird die big.mdw.band\, die Big Band der Universität für Musik und darstellende Kunst Wien\, unter Leitung von Markus Geiselhart das Ruder übernehmen und die eigens für sie angefertigten brandneuen Stücke darbieten. \nDie an diesem Abend zu hörenden Werke reichen von Jazz über Rock bis hin zu Minimalismus und Neuer Musik. Diese große musikalische Bandbreite spiegelt die stilistische Offenheit des ipop und das kreative Potenzial der jungen Musikergeneration wieder. \n1. Set\nBeach Party Orchestra\nLeitung: Harald Huber & Melissa Jank \n2. Set\nipop Composers Ensemble\nLeitung: Gerd Hermann Ortler \n3.Set\nbig.mdw.band\nLeitung: Markus Geiselhart \nipop Composers Night\nDienstag\, 28. Juni 2022 – 18.30 Uhr\nSargfabrik\, Wien – www.sargfabrik.at\nEintritt: 20 Euro\, ermäßigt 14 Euro\n(Studierende der mdw mit mdw-Card Eintritt frei)
URL:https://www.ipop.at/veranstaltung/ipop-composers-night/
LOCATION:Sargfabrik\, Goldschlagstraße 169\, Wien\, Wien\, 1140\, Österreich
END:VEVENT
BEGIN:VEVENT
DTSTART;TZID=Europe/Vienna:20220622T090000
DTEND;TZID=Europe/Vienna:20220622T170000
DTSTAMP:20260422T110901
CREATED:20220601T103602Z
LAST-MODIFIED:20220621T140509Z
UID:210789-1655888400-1655917200@www.ipop.at
SUMMARY:Saxophon-Hearings
DESCRIPTION:
URL:https://www.ipop.at/veranstaltung/saxophon-hearings/2022-06-22/
LOCATION:ipop\, Anton-von-Webern-Platz 1\, Wien\, 1030\, Österreich
END:VEVENT
BEGIN:VEVENT
DTSTART;TZID=Europe/Vienna:20220621T200000
DTEND;TZID=Europe/Vienna:20220621T223000
DTSTAMP:20260422T110901
CREATED:20220504T095135Z
LAST-MODIFIED:20220504T095135Z
UID:210721-1655841600-1655850600@www.ipop.at
SUMMARY:Vocal Night @ Jazzclub 1019
DESCRIPTION:Club 1019\nAlthanstraße 12\n1090 Wien\nÖsterreich
URL:https://www.ipop.at/veranstaltung/vocal-night-jazzclub-1019/2022-06-21/
LOCATION:Jazzclub 1019\, Althanstraße 12\, Wien\, Wien\, 1190\, Österreich
END:VEVENT
BEGIN:VEVENT
DTSTART;TZID=Europe/Vienna:20220614T193000
DTEND;TZID=Europe/Vienna:20220614T233000
DTSTAMP:20260422T110901
CREATED:20220323T123030Z
LAST-MODIFIED:20220516T122851Z
UID:210544-1655235000-1655249400@www.ipop.at
SUMMARY:ipop-Session – Vocal Night mit ipop-Chor und Vokalensemble Vox Slavena / Musik aus Südosteuropa 14. Juni 2022
DESCRIPTION:Die Session findet am 14. Juni 2022 im Klangtheater statt. Opener: Vocal Night mit ipop-Chor und Vokalensemble Vox Slavena / Musik aus Südosteuropa \n\nEinlass: ab 19:30 \nBeginn Opener: 20:00 \nStart Session: 21:00 \nEnde: 23:30
URL:https://www.ipop.at/veranstaltung/ipop-session-vocal-night-mit-ipop-chor-und-vokalensemble-vox-slavena-musik-aus-suedosteuropa-14-juni-2022/
LOCATION:Klangtheater\, Anton-von-Webern-Platz 1\, Wien\, 1030\, Austria
END:VEVENT
BEGIN:VEVENT
DTSTART;TZID=Europe/Vienna:20220613T190000
DTEND;TZID=Europe/Vienna:20220613T213000
DTSTAMP:20260422T110901
CREATED:20220607T164852Z
LAST-MODIFIED:20220607T164852Z
UID:210803-1655146800-1655155800@www.ipop.at
SUMMARY:the great american bonfire songbook
DESCRIPTION:Ein Abend mit Feuerschale und passender Musik \nOrt:\nVor dem IPOP
URL:https://www.ipop.at/veranstaltung/the-great-american-bonfire-songbook/
LOCATION:ipop\, Anton-von-Webern-Platz 1\, Wien\, 1030\, Österreich
END:VEVENT
BEGIN:VEVENT
DTSTART;TZID=Europe/Vienna:20220610T140000
DTEND;TZID=Europe/Vienna:20220610T180000
DTSTAMP:20260422T110901
CREATED:20220601T145946Z
LAST-MODIFIED:20221024T090925Z
UID:210799-1654869600-1654884000@www.ipop.at
SUMMARY:Translating Rhythms through dance and singing
DESCRIPTION:(Workshop für Sänger:innen- Popularmusik) \nEinblicke in die nord – indische klassische Musik und Rhythmus Kultur durch das Medium Kathak Tanz und deren Anwendung in der zeitgenössischen Popularmusik. \nKaveri Sageder: Indischer Kathak Tanz \nPhilipp Sageder: Voice & electronics \n14:00-15:45 Workshop Part I\n15:45-16:15 Pause\n16:15-18:00 Workshop Part II \nOrt: Bankett-Saal der MDW \n  \n  \nYoutube Teaser über Kaveri: https://www.youtube.com/watch?v=o_KgUoiajdI \nPDF: Translating_Rhythms _through_dance_and singing
URL:https://www.ipop.at/veranstaltung/translating-rhythms-through-dance-and-singing/
LOCATION:Universität für Musik und darstellende Kunst Wien – Anton von Webern Platz\, Anton-von-Webern-Platz 1\, Wien\, Wien\, 1030\, Österreich
END:VEVENT
BEGIN:VEVENT
DTSTART;TZID=Europe/Vienna:20220608T193000
DTEND;TZID=Europe/Vienna:20220608T220000
DTSTAMP:20260422T110901
CREATED:20220601T144539Z
LAST-MODIFIED:20220601T144827Z
UID:210794-1654716600-1654725600@www.ipop.at
SUMMARY:ipop Vocal Night
DESCRIPTION:Populargesangsstudierende des ipop präsentieren gemeinsam mit Benjamin Schatz am Klavier ein stilistisch buntes Programm. \nFrau Mayer\nRudolfsplatz 12\n1010 Wien
URL:https://www.ipop.at/veranstaltung/ipop-vocal-night-4/
LOCATION:Frau Mayer\, Rudolfsplatz 12\, Wien\, Wien\, 1010\, Österreich
END:VEVENT
BEGIN:VEVENT
DTSTART;TZID=Europe/Vienna:20220602T200000
DTEND;TZID=Europe/Vienna:20220602T220000
DTSTAMP:20260422T110901
CREATED:20220601T144317Z
LAST-MODIFIED:20220601T144317Z
UID:210792-1654200000-1654207200@www.ipop.at
SUMMARY:ipop jazzline @ZWE mit Miagi Jazz Cats + THE iPOP - JAZZ NONETT
DESCRIPTION:zwe\nFloßgasse 4\n1020 Wien \nEintritt: Freie Musikbeitrag
URL:https://www.ipop.at/veranstaltung/ipop-jazzline-zwe-mit-miagi-jazz-cats-the-ipop-jazz-nonett/
LOCATION:Jazzclub ZWE\, Floßgasse 4\, Wien\, 1020
END:VEVENT
BEGIN:VEVENT
DTSTART;TZID=Europe/Vienna:20220602T170000
DTEND;TZID=Europe/Vienna:20220602T190000
DTSTAMP:20260422T110901
CREATED:20220530T091948Z
LAST-MODIFIED:20220530T091948Z
UID:210774-1654189200-1654196400@www.ipop.at
SUMMARY:Workshop: Musik aus Südafrika - MIAGI Jazz Cats
DESCRIPTION:Ein Workshop über die Jazz-Szene Südafrikas. \nAntworten auf Fragen wie z. B.: Wie spielt man Mbaquanga und Mwaito? Wie wird das musikalische Erbe der Sotho\, Tswana und Zulu konkret im Idiom des Jazz verarbeitet? \nHierbei können Studierende von MUK und ipop auch aktiv mit einbezogen werden.\n\n\n\nOrt:\nMUK\nBräunerstraße 5\, 1010 Wien\nRaum K.10\nAb 17:00 Uhr
URL:https://www.ipop.at/veranstaltung/workshop-musik-aus-suedafrika-miagi-jazz-cats/
LOCATION:MUK – Musik und Kunst Privatuniversität der Stadt Wien\, Bräunergasse 5\, Wien\, Wien\, 1010\, Österreich
END:VEVENT
BEGIN:VEVENT
DTSTART;TZID=Europe/Vienna:20220524T193000
DTEND;TZID=Europe/Vienna:20220524T233000
DTSTAMP:20260422T110901
CREATED:20220323T122922Z
LAST-MODIFIED:20220516T122834Z
UID:210539-1653420600-1653435000@www.ipop.at
SUMMARY:ipop-Session (Opener: OMG) 24. Mai 2022
DESCRIPTION:Die Session findet am 24. Mai 2022 im Klangtheater statt. Opener: OMG \n\nEinlass: ab 19:30 \nBeginn Opener: 20:00 \nStart Session: 21:00 \nEnde: 23:30
URL:https://www.ipop.at/veranstaltung/210539/
LOCATION:Klangtheater\, Anton-von-Webern-Platz 1\, Wien\, 1030\, Austria
END:VEVENT
BEGIN:VEVENT
DTSTART;TZID=Europe/Vienna:20220513T180000
DTEND;TZID=Europe/Vienna:20220513T213000
DTSTAMP:20260422T110901
CREATED:20220512T093645Z
LAST-MODIFIED:20220512T093645Z
UID:210744-1652464800-1652477400@www.ipop.at
SUMMARY:JamE Session
DESCRIPTION:
URL:https://www.ipop.at/veranstaltung/jame-session/
LOCATION:ipop\, Anton-von-Webern-Platz 1\, Wien\, 1030\, Österreich
END:VEVENT
BEGIN:VEVENT
DTSTART;TZID=Europe/Vienna:20220511T140000
DTEND;TZID=Europe/Vienna:20220511T153000
DTSTAMP:20260422T110901
CREATED:20220510T120840Z
LAST-MODIFIED:20220510T120840Z
UID:210741-1652277600-1652283000@www.ipop.at
SUMMARY:big.mdw.band: ORF Big band revisited
DESCRIPTION:Mittwoch 11.05.:  ab 14 Uhr Platzkonzert vor mdw Bibliothek \nweiter Informationen: https://www.bibliothek.mdw.ac.at/choice/
URL:https://www.ipop.at/veranstaltung/big-mdw-band-orf-big-band-revisited/
LOCATION:Universität für Musik und darstellende Kunst Wien – Anton von Webern Platz\, Anton-von-Webern-Platz 1\, Wien\, Wien\, 1030\, Österreich
END:VEVENT
BEGIN:VEVENT
DTSTART;TZID=Europe/Vienna:20220510T173000
DTEND;TZID=Europe/Vienna:20220510T213000
DTSTAMP:20260422T110901
CREATED:20220323T122837Z
LAST-MODIFIED:20220411T090220Z
UID:210537-1652203800-1652218200@www.ipop.at
SUMMARY:ipop-Session (Opener: Wonderbrass – The Music Of Dirty Loops feat. Anna Buchegger) 10. Mai 2022
DESCRIPTION:Die Session findet am 10. Mai 2022 im Klangtheater statt. \nOpener:\nWONDERBRASS – The iPOP Brass Ensemble feat. Anna Buchegger \n\nThe Music Of Dirty Loops directed by Horst-Michael Schaffer \nDas iPOP Brass Ensemble widmete sich kurz vor der Pandemie der Musik der skandinavischen Band DIRTY LOOPS. Als diese Band vor ca. 10 Jahren den YouTube-Kanal mit seinen Covers flutete war die internationale Musikwelt von der Virtuosität beeindruckt. Ihre Coverversionen von bekannten Popsongs erlangten in Musikerkreisen in kürzester Zeit Kultstatus und legten die Messlatte für kreative Coverversionen um ein Stück höher. \nLeider hat es nun Pandemiebedingt 2 Jahre gedauert bis es möglich war dieses Projekt auf die Bühne zu bringen. Wir freuen uns schon sehr darauf. Die Arrangements stammen von Studierenden von Gerd Hermann Ortler des Jahrgangs 2019/20. \nKommet zuhauf & letz party!!!!!! \nEinlass: ab 17:30 Uhr\nBeginn Opener: 18:00 Uhr\nBeginn Session: 19:00 Uhr\nEnde: 21:30 Uhr
URL:https://www.ipop.at/veranstaltung/ipop-session-opener-wonderbrass-the-music-of-dirty-loops-feat-anna-buchegger-10-mai-2022/
LOCATION:Klangtheater\, Anton-von-Webern-Platz 1\, Wien\, 1030\, Austria
END:VEVENT
BEGIN:VEVENT
DTSTART;TZID=Europe/Vienna:20220506T170000
DTEND;TZID=Europe/Vienna:20220506T193000
DTSTAMP:20260422T110901
CREATED:20220408T114851Z
LAST-MODIFIED:20220411T124441Z
UID:210590-1651856400-1651865400@www.ipop.at
SUMMARY:drumtalk #9
DESCRIPTION:
URL:https://www.ipop.at/veranstaltung/drumtalk-9/
LOCATION:Klangtheater\, Anton-von-Webern-Platz 1\, Wien\, 1030\, Austria
END:VEVENT
BEGIN:VEVENT
DTSTART;TZID=Europe/Vienna:20220408T170000
DTEND;TZID=Europe/Vienna:20220408T183000
DTSTAMP:20260422T110901
CREATED:20220224T101129Z
LAST-MODIFIED:20220401T124356Z
UID:210370-1649437200-1649442600@www.ipop.at
SUMMARY:Masterclass - Indian Rhythms for Western Musicians
DESCRIPTION:Covid-19 Regelungen: Für Präsenzpublikum gilt verpflichtend ein gültiger negativer PCR oder Antigentest\, FFP2-Maskenpflicht (auch am Sitzplatz) sowie eine Kontaktdatenerfassung (mittels QR-Code Registrierung). Mehr Informationen unter mdw.ac.at/ihresicherheit. \nAntigentests sind im Sekretariat des ipops erhältlich. \n 
URL:https://www.ipop.at/veranstaltung/masterclass-indian-rhythms-for-western-musicians/
LOCATION:Universität für Musik und darstellende Kunst Wien – Anton von Webern Platz\, Anton-von-Webern-Platz 1\, Wien\, Wien\, 1030\, Österreich
END:VEVENT
BEGIN:VEVENT
DTSTART;TZID=Europe/Vienna:20220405T173000
DTEND;TZID=Europe/Vienna:20220405T213000
DTSTAMP:20260422T110901
CREATED:20220322T105801Z
LAST-MODIFIED:20220322T110454Z
UID:210494-1649179800-1649194200@www.ipop.at
SUMMARY:ipop-Session (Opener: John Klirr)
DESCRIPTION:Die Session findet am 05. April 2022 im Klangtheater statt. Opener: John Klirr \nEinlass: 17:30 Uhr\nBeginn Opener: 18:00 Uhr\nBeginn Session: 19:00 Uhr\nEnde: 21:30 Uhr \nCovid-19 Regelungen: Für Präsenzpublikum gilt die 2G-Regel (Geimpft oder Genesen)\, FFP2-Maskenpflicht (auch am Sitzplatz) sowie eine Kontaktdatenerfassung (mittels QR-Code Registrierung). Mehr Informationen unter mdw.ac.at/ihresicherheit.
URL:https://www.ipop.at/veranstaltung/ipop-session-opener-john-kirr/
LOCATION:Klangtheater\, Anton-von-Webern-Platz 1\, Wien\, 1030\, Austria
END:VEVENT
BEGIN:VEVENT
DTSTART;TZID=Europe/Vienna:20220331T180000
DTEND;TZID=Europe/Vienna:20220331T233000
DTSTAMP:20260422T110901
CREATED:20220323T111532Z
LAST-MODIFIED:20220330T094209Z
UID:210509-1648749600-1648769400@www.ipop.at
SUMMARY:ipop-jazzline: Eldone + Lenny Riepler 4
DESCRIPTION:Einlass ab Uhr 18:00\, Konzertbeginn ist jeweils um Uhr 20:00. \nTickets 15\,- Vollpreis / 10\,- für Studierende \nFloßgasse 4\, 1020 Wien \nEledone \nMal mit graziler Leichtigkeit\, im nächsten Moment hochenergetisch und mit purer Kraft agierend\, bewegt sich die Gruppe Eledone durch das vielschichtige Feld des Contemporary Jazz.\nJonas Kastenhuber\, Alexander Matheis und Jakob Gschwandtner bilden hierfür ein Trio mit eigenständigem Sound aus Piano\, E-Bass und Schlagzeug. In ihren von Gegensätzen geprägten Eigenkompositionen verbinden die Musiker gekonnt Einflüsse aus unterschiedlichsten Genres und Stilen. Komplexe Patterns mischen sich mit eingängigen Melodien und Strukturen werden immer wieder zugunsten spontaner Interaktion auf Augenhöhe aufgebrochen. \nDie edle Kunst des Jazzklaviertrios kann auf eine Vergangenheit verweisen\, die nur so strotzt von legendären Musiker/innen und unvergesslichen Alben. Die Emanzipation von Kontrabass und Schlagzeug gegenüber dem Klavier hat schon bei Bill Evans‘ frühen Aufnahmen gezeigt\, wie elegant und zugleich dicht und spannungsvoll Trio-Jazz klingen kann. Das junge Trio Eledone rund um den oberösterreichischen Pianisten Jonas Kastenhuber verfügt schon jetzt über vielversprechende Ansätze\, dieser großen Tradition zu folgen. \nMit seinen beiden Gefährten Alexander Matheis (E-Bass) und Jakob Gschwandtner (Schlagzeug) musiziert Kastenhuber geschmackssicher und intensiv. Die Hierarchie von Soloinstrument und Begleitung ist weitgehend aufgehoben und weicht spontaner Interaktion auf Augenhöhe. \n– Helmut Jasper\, Ö1\, Sendung „Die Kunst des Klaviertrios: Eledone“ – \nLenny Riepler 4 \n\nSaxophon: Leonhard Riepler\nKeys: Jonas Kastenhuber\nBass: Yannick Bösch\nDrums: Jonas Kocnik\n\n\nLenny Riepler 4 ist ein Projekt junger Musiker aus Wien und Linz\, die aus unterschiedlichsten musikalischen Strömungen zueinander gefunden haben. Drummer Jonas Kocnik sorgt für groovige Hip-Hop Beats\, Jonas Kastenhuber und Yannick Bösch liefern die harmonische Basis\, Lenny Riepler kombiniert in eigenen Kompositionen von Jonas Kastenhuber und Ihm starke Melodien und moderne Improvisationsansätze.
URL:https://www.ipop.at/veranstaltung/ipop-jazzline-eldone/
LOCATION:Jazzclub ZWE\, Floßgasse 4\, Wien\, 1020
END:VEVENT
BEGIN:VEVENT
DTSTART;TZID=Europe/Vienna:20220322T173000
DTEND;TZID=Europe/Vienna:20220322T213000
DTSTAMP:20260422T110901
CREATED:20220317T095536Z
LAST-MODIFIED:20220317T095536Z
UID:210453-1647970200-1647984600@www.ipop.at
SUMMARY:ipop-Session (Opener: Bruther)
DESCRIPTION:Die Session findet am 22. März 2022 im Klangtheater statt. Opener: Bruther \nEinlass: 17:30 Uhr\nBeginn Opener: 18:15 Uhr\nBeginn Session: 19:00 Uhr\nEnde: 21:30 Uhr\n \nCOVID-19 Regeln:\nVeranstaltungen können unter Einhaltung der Maskenpflicht ohne Beschränkung der Besucher_innenzahl und ohne Sitzplatzregulierung stattfinden. Für Besucher_innen gilt eine 2G-Regelung\, die beim Einlass kontrolliert werden muss. Zudem ist eine Erfassung der Anwesenheiten mittels QR-Code erforderlich.\n\nEintritt frei
URL:https://www.ipop.at/veranstaltung/ipop-session-opener-bruther/
LOCATION:Klangtheater\, Anton-von-Webern-Platz 1\, Wien\, 1030\, Austria
END:VEVENT
BEGIN:VEVENT
DTSTART;TZID=Europe/Vienna:20220317T103000
DTEND;TZID=Europe/Vienna:20220317T173000
DTSTAMP:20260422T110901
CREATED:20220310T140500Z
LAST-MODIFIED:20220315T141915Z
UID:210410-1647513000-1647538200@www.ipop.at
SUMMARY:ABGESAGT: Gitarrenworkshop mit Nando Reinhardt
DESCRIPTION:Am Donnerstag 17. März 2022 von 10:30 Uhr bis 12:00 Uhr im Seminarraum F 139 im 1. Stock des ipop. \nWer möchte kann gerne mit Gitarre kommen! \nINHALT: Spieltechniken und Charakteristika der Gipsygitarre (Instrument\, Saiten\, Pick\, Verstärker\, Rhythmusgitarre\, Improvisation\, etc.). \nAnmeldungen bitte an kelner@mdw.ac.at \nWann: Donnerstag\, 17. März 2022\nZeit: 10.30 Uhr bis 12.00 Uhr\nOrt: Seminarraum F 139\n\n\n\n„Die Gitarre habe ich im Alter von 12 Jahren für mich entdeckt. Im Grunde bin ich Autodidakt. Mit großer Neugier habe ich jede Möglichkeit genutzt\, durch Beobachtung von Musikern in meinem Umfeld zu lernen\, um mein Spiel zu verfeinern und zu vertiefen. Ich hatte das große Glück in einer Familie aufwachsen zu dürfen\, in der die Musik Django Reinhardts\, der Swing Manouche und das Bewahren dieser musikalischen Tradition eine zentrale Rolle spielt. Django Reinhardt und die französische Tradition des Swing Manouche sind der Quell meiner Inspiration. Virtuosität ist eine der Zutaten\, die dem Gypsy Swing diese typisch unverwechselbare Lebendigkeit verleihen kann\, andererseits ist sie für mich immer nur Mittel zum Zweck.“ (Nando Reinhardt)\n\nCovid-19 Regelungen: Für Präsenzpublikum gilt die 2G-Regel (Geimpft oder Genesen)\, FFP2-Maskenpflicht (auch am Sitzplatz) sowie eine Kontaktdatenerfassung (mittels QR-Code Registrierung). Mehr Informationen unter mdw.ac.at/ihresicherheit.
URL:https://www.ipop.at/veranstaltung/gitarrenworkshop-mit-nando-reinhardt/
LOCATION:ipop\, Anton-von-Webern-Platz 1\, Wien\, 1030\, Österreich
END:VEVENT
BEGIN:VEVENT
DTSTART;TZID=Europe/Vienna:20220308T173000
DTEND;TZID=Europe/Vienna:20220308T213000
DTSTAMP:20260422T110901
CREATED:20220304T120150Z
LAST-MODIFIED:20220308T082203Z
UID:210400-1646760600-1646775000@www.ipop.at
SUMMARY:ABGESAGT! IPOP-Session (Opener: Pläsanterie)
DESCRIPTION:Die Session findet am 08. März 2022 im Klangtheater statt. Opener: Pläsanterie \nEinlass: 17:30 Uhr\nBeginn Opener: 18:00 Uhr\nBeginn Session: 19:00 Uhr\nEnde: 21:30 Uhr\n \nCOVID-19 Regeln:\nVeranstaltungen können unter Einhaltung der Maskenpflicht ohne Beschränkung der Besucher_innenzahl und ohne Sitzplatzregulierung stattfinden. Für Besucher_innen gilt eine 2G-Regelung\, die beim Einlass kontrolliert werden muss. Zudem ist eine Erfassung der Anwesenheiten mittels QR-Code erforderlich.\n\nEintritt frei
URL:https://www.ipop.at/veranstaltung/ipop-session-opener-plaesanterie/
LOCATION:Universität für Musik und darstellende Kunst Wien – Anton von Webern Platz\, Anton-von-Webern-Platz 1\, Wien\, Wien\, 1030\, Österreich
END:VEVENT
BEGIN:VEVENT
DTSTART;TZID=Europe/Vienna:20211209T183000
DTEND;TZID=Europe/Vienna:20211209T183000
DTSTAMP:20260422T110901
CREATED:20211112T084523Z
LAST-MODIFIED:20211123T091312Z
UID:210073-1639074600-1639074600@www.ipop.at
SUMMARY:ABGESAGT !!! – Masterclass mit Bernhard Schimpelsberger
DESCRIPTION:ABGESAGT – ABGESAGT – ABGESAGT – ABGESAGT\nWird im Sommersemester 2022 nachgeholt !! Termin tba \nMASTERCLASS \nMit Bernhard Schimpelsberger  – Multi Percussionist / Drummer / Composer\nIndian Rhythms for Western Musicians \nDo\, 9.12.2021\, 18.30 Uhr\nmdw – Universität für Musik und darstellende Kunst Wien\nKlangtheater\nAnton-von-Webern-Platz 1\, 1030 Wien \nAnmeldung unter: lackner@mdw.ac.at\nOpen for all Musicians \nBild: Gui Süssekind
URL:https://www.ipop.at/veranstaltung/masterclass-mit-bernhard-schimpelsberger/
LOCATION:Universität für Musik und darstellende Kunst Wien – Anton von Webern Platz\, Anton-von-Webern-Platz 1\, Wien\, Wien\, 1030\, Österreich
ATTACH;FMTTYPE=image/jpeg:https://www.ipop.at/wp-content/uploads/Plakat_Masterclass_Schimpelsberger_091221-Kopie.jpg
END:VEVENT
BEGIN:VEVENT
DTSTART;TZID=Europe/Vienna:20211029T160000
DTEND;TZID=Europe/Vienna:20211029T160000
DTSTAMP:20260422T110901
CREATED:20211018T093946Z
LAST-MODIFIED:20211018T094623Z
UID:210048-1635523200-1635523200@www.ipop.at
SUMMARY:drumtalk #8+ am 20. Oktober 2021
DESCRIPTION:Buch- & Produktpräsentationen \nWhat Are The Odds\nSebastian Simsa \nAustrian Drumhead Company\nHans-Peter (HP) Kirbisser \nFreud Drums\nSimon Harringer\nMaximilian Zödl \n29. Oktober 2021\, 16 Uhr\, 1030 Wien\nClara Schumann-Saal\, Anton-von-Webern-Platz 1\nmdw – Universität für Musik und darstellende Kunst Wien\nEintritt frei \nPlakat als PDF (6\,5 MB) \nBild/Foto/Credit: Georg Buxhofer
URL:https://www.ipop.at/veranstaltung/drumtalk-8-am-20-oktober-2021/
LOCATION:Universität für Musik und darstellende Kunst Wien – Anton von Webern Platz\, Anton-von-Webern-Platz 1\, Wien\, Wien\, 1030\, Österreich
ATTACH;FMTTYPE=image/jpeg:https://www.ipop.at/wp-content/uploads/Plakat_drumtalk_8plus_291021_305KB.jpg
END:VEVENT
BEGIN:VEVENT
DTSTART;TZID=Europe/Vienna:20210610T200000
DTEND;TZID=Europe/Vienna:20210610T200000
DTSTAMP:20260422T110901
CREATED:20200719T205300Z
LAST-MODIFIED:20210531T114342Z
UID:209131-1623355200-1623355200@www.ipop.at
SUMMARY:!!! Muss leider abgesagt werden !!! Veranstaltung findet nicht statt !!!
DESCRIPTION:ipop Jazzline im ZWE \n10. Juni 2021\, 20 Uhr\nzwe – Flossgasse 4\, 1020 Wien\nhttp://www.zwe.cc/
URL:https://www.ipop.at/veranstaltung/ipop-jazzline-im-zwe-10/
LOCATION:Jazzclub ZWE\, Floßgasse 4\, Wien\, 1020
END:VEVENT
BEGIN:VEVENT
DTSTART;TZID=Europe/Vienna:20210520T200000
DTEND;TZID=Europe/Vienna:20210520T200000
DTSTAMP:20260422T110901
CREATED:20200719T205138Z
LAST-MODIFIED:20200719T205138Z
UID:209129-1621540800-1621540800@www.ipop.at
SUMMARY:ipop Jazzline im ZWE
DESCRIPTION:20. Mai 2021\, 20 Uhr\nzwe – Flossgasse 4\, 1020 Wien\nhttp://www.zwe.cc/
URL:https://www.ipop.at/veranstaltung/ipop-jazzline-im-zwe-9/
LOCATION:Jazzclub ZWE\, Floßgasse 4\, Wien\, 1020
END:VEVENT
BEGIN:VEVENT
DTSTART;TZID=Europe/Vienna:20210422T200000
DTEND;TZID=Europe/Vienna:20210422T200000
DTSTAMP:20260422T110901
CREATED:20200719T205004Z
LAST-MODIFIED:20200719T205004Z
UID:209127-1619121600-1619121600@www.ipop.at
SUMMARY:ipop Jazzline im ZWE
DESCRIPTION:22. April 2021\, 20 Uhr\nzwe – Flossgasse 4\, 1020 Wien\nhttp://www.zwe.cc/
URL:https://www.ipop.at/veranstaltung/ipop-jazzline-im-zwe-8/
LOCATION:Jazzclub ZWE\, Floßgasse 4\, Wien\, 1020
END:VEVENT
BEGIN:VEVENT
DTSTART;TZID=Europe/Vienna:20210121T200000
DTEND;TZID=Europe/Vienna:20210121T200000
DTSTAMP:20260422T110901
CREATED:20200719T204826Z
LAST-MODIFIED:20200719T204826Z
UID:209125-1611259200-1611259200@www.ipop.at
SUMMARY:ipop Jazzline im ZWE
DESCRIPTION:21. Jännerer 2021\, 20 Uhr\nzwe – Flossgasse 4\, 1020 Wien\nhttp://www.zwe.cc/
URL:https://www.ipop.at/veranstaltung/ipop-jazzline-im-zwe-7/
LOCATION:Jazzclub ZWE\, Floßgasse 4\, Wien\, 1020
END:VEVENT
BEGIN:VEVENT
DTSTART;TZID=Europe/Vienna:20201210T180000
DTEND;TZID=Europe/Vienna:20201210T180000
DTSTAMP:20260422T110901
CREATED:20201130T135502Z
LAST-MODIFIED:20201130T135851Z
UID:209373-1607623200-1607623200@www.ipop.at
SUMMARY:drumtalk via ZOOM - 10. Dezember 2020
DESCRIPTION:Mario Lackner lädt herzlich zum ersten „drumtalk“ unter Coronabedingungen ein.\nAlex Riepl wird das Album „AJA“ von Steely Dan nicht nur vorstellen\, sondern viele interessante Einblicke in diese Produktion geben. \n \nThema: drumtalk #07 / Aja – beyond the backbeat mit Alex Riepl\nUhrzeit: 10. Dezember 2020\, 18 Uhr \nZoom-Meeting beitreten:\nhttps://mdw-ac-at.zoom.us/j/98325640058?pwd=elRDTWhodTBZaGpvaEN5WFZraE9iUT09 \nMeeting-ID: 983 2564 0058       Kenncode: 366530
URL:https://www.ipop.at/veranstaltung/drumtalk-via-zoom-10-dezember-2020/
END:VEVENT
BEGIN:VEVENT
DTSTART;TZID=Europe/Vienna:20201119T200000
DTEND;TZID=Europe/Vienna:20201119T200000
DTSTAMP:20260422T110901
CREATED:20200719T204609Z
LAST-MODIFIED:20201002T115630Z
UID:209123-1605816000-1605816000@www.ipop.at
SUMMARY:ABGESAGT !! - ipop Jazzline im ZWE
DESCRIPTION:!!! LEIDER ABGESAGT !!! \n19. November 2020\, 20 Uhr\nzwe – Flossgasse 4\, 1020 Wien\nhttp://www.zwe.cc/
URL:https://www.ipop.at/veranstaltung/ipop-jazzline-im-zwe-6/
LOCATION:Jazzclub ZWE\, Floßgasse 4\, Wien\, 1020
END:VEVENT
BEGIN:VEVENT
DTSTART;TZID=Europe/Vienna:20200627T120000
DTEND;TZID=Europe/Vienna:20200627T233000
DTSTAMP:20260422T110901
CREATED:20191023T193254Z
LAST-MODIFIED:20200626T093837Z
UID:208606-1593259200-1593300600@www.ipop.at
SUMMARY:ABGESAGT!!! ipop Präsentationen & Konzerte
DESCRIPTION:ABGESAGT !!! ipop Präsentationen & Konzerte\n27. Juni 2020\, ab 12 Uhr \nUniversität für Musik und darstellende Kunst Wien\nAnton-von-Webern-Platz 1\, 1030 Wien\nClara Schumann-Saal \nProgramm folgt in Kürze
URL:https://www.ipop.at/veranstaltung/ipop-praesentationen-konzerte-4/
LOCATION:Universität für Musik und darstellende Kunst Wien – Anton von Webern Platz\, Anton-von-Webern-Platz 1\, Wien\, Wien\, 1030\, Österreich
END:VEVENT
END:VCALENDAR